BEGIN:VCALENDAR
VERSION:2.0
PRODID:-//Abbaye de Fontaine-Guérard - ECPv6.3.6//NONSGML v1.0//EN
CALSCALE:GREGORIAN
METHOD:PUBLISH
X-ORIGINAL-URL:https://www.abbayefontaineguerard.fr
X-WR-CALDESC:évènements pour Abbaye de Fontaine-Guérard
REFRESH-INTERVAL;VALUE=DURATION:PT1H
X-Robots-Tag:noindex
X-PUBLISHED-TTL:PT1H
BEGIN:VTIMEZONE
TZID:Europe/Paris
BEGIN:DAYLIGHT
TZOFFSETFROM:+0100
TZOFFSETTO:+0200
TZNAME:CEST
DTSTART:20260329T010000
END:DAYLIGHT
BEGIN:STANDARD
TZOFFSETFROM:+0200
TZOFFSETTO:+0100
TZNAME:CET
DTSTART:20261025T010000
END:STANDARD
END:VTIMEZONE
BEGIN:VEVENT
DTSTART;TZID=Europe/Paris:20260720T140000
DTEND;TZID=Europe/Paris:20260820T183000
DTSTAMP:20260419T231309
CREATED:20260113T103448Z
LAST-MODIFIED:20260201T183122Z
UID:704-1784556000-1787250600@www.abbayefontaineguerard.fr
SUMMARY:Au-delà du Visible
DESCRIPTION:Exposition de peinture de Sandrine Lefort dans le dortoir des moniales et la chambre de l’abbesse. \n« Le visible ne se voit pas\, qu’en pensez-vous ? \nVoir avec les yeux d’un autre\, serait-ce un des pas vers la réalité pour mettre fin à l’illusion? \nDepuis des années mon art est dirigé vers les autres\, que voient-ils? \nJ’aimerais que chacun puisse décaler son regard pour s’ouvrir à celui de l’autre\, s’y enrichir\, découvrir un autre monde. \nChacun est une parcelle de l’univers et univers entier. Il y vient rejoindre l’autre\, les autres\, sans s’y perdre. » \nA l’origine enseignante spécialisée\, Sandrine Lefort s’est tournée vers l’art-thérapie et la gesta-thérapie par le vecteur de la peinture. Sandrine Lefort met l’accent sur l’aspect créateur et expliquera le sens de sa démarche créatrice. \nAnimations proposées le long de l’exposition (ateliers\, défilé\, etc). \nexposition et visite libre de l’abbaye et des jardins monastiques: de 7 à 4 €.
URL:https://www.abbayefontaineguerard.fr/evenement/expositions-estivales-peintures-et-sculptures/
LOCATION:Abbaye de Fontaine-Guérard\, CD 714\, Radepont\, 27380
CATEGORIES:exposition
ATTACH;FMTTYPE=image/jpeg:https://www.abbayefontaineguerard.fr/wp-content/uploads/2026/01/image0-scaled.jpeg
END:VEVENT
BEGIN:VEVENT
DTSTART;TZID=Europe/Paris:20260720T140000
DTEND;TZID=Europe/Paris:20260820T183000
DTSTAMP:20260419T231309
CREATED:20260201T184109Z
LAST-MODIFIED:20260201T184109Z
UID:737-1784556000-1787250600@www.abbayefontaineguerard.fr
SUMMARY:Sentinelles
DESCRIPTION:Exposition de sculptures de Laurence Panadero dans les salles du rez-de-chaussée et le parc de l’abbaye. \n« L’encens accompagne l’humanité depuis des millénaires. Il est le souffle qui relie le sol au ciel\, la pierre à l’esprit. Dans la continuité de l’installation au monastère de Miami\, cette nouvelle collection d’encensoirs à l’Abbaye de Fontaine-Guérard offre une méditation sur notre survie : \nGardiens de la Terre. À l’arrière des sculptures\, l’encens s’allume et la fumée s’élève. Ce n’est pas un rite\, c’est un signal d’alarme. Ces gardiens veillent sur un écosystème fragile ; ils nous rappellent que protéger la nature est notre seule prière pour l’avenir. \nRester Humain. Dans le vide de ces structures\, l’air circule librement. C’est une invitation à la conscience : rester humain\, c’est refuser l’indifférence et protéger ce qui nous fait vivre. \nL’Abbaye. Ici\, entre les murs de Fontaine-Guérard\, le temps s’arrête. L’architecture cistercienne\, faite de dépouillement et de vérité\, devient l’écrin de ces sentinelles. Le dialogue entre la pierre ancienne et la fumée éphémère souligne l’urgence de préserver notre passage sur terre.«  \nLaurence Panadero est une artiste contemporaine française de renommée internationale\, surtout connue pour ses sculptures et installations de grande envergure à Miami où elle a vécu vingt ans. Revenue en France et installée à Forges-les-Eaux depuis peu\, elle souhaite faire partager son univers dans une abbaye cistercienne normande\, en écho au monastère espagnol du 12è s. de Ségovie démonté puis reconstruit aux Etats-Unis\, dans lequel étaient exposées ses sculptures « Les Gardiens de la Terre ». \nexposition et visite libre de l’abbaye et des jardins monastiques: de 7 à 4 €.
URL:https://www.abbayefontaineguerard.fr/evenement/sentinelles/
LOCATION:Abbaye de Fontaine-Guérard\, CD 714\, Radepont\, 27380
CATEGORIES:exposition
ATTACH;FMTTYPE=image/jpeg:https://www.abbayefontaineguerard.fr/wp-content/uploads/2026/02/Capture-decran_23-1-2026_11432_.jpeg
END:VEVENT
END:VCALENDAR