BEGIN:VCALENDAR
VERSION:2.0
PRODID:-//Abbaye de Fontaine-Guérard - ECPv6.3.6//NONSGML v1.0//EN
CALSCALE:GREGORIAN
METHOD:PUBLISH
X-ORIGINAL-URL:https://www.abbayefontaineguerard.fr
X-WR-CALDESC:évènements pour Abbaye de Fontaine-Guérard
REFRESH-INTERVAL;VALUE=DURATION:PT1H
X-Robots-Tag:noindex
X-PUBLISHED-TTL:PT1H
BEGIN:VTIMEZONE
TZID:Europe/Paris
BEGIN:DAYLIGHT
TZOFFSETFROM:+0100
TZOFFSETTO:+0200
TZNAME:CEST
DTSTART:20250330T010000
END:DAYLIGHT
BEGIN:STANDARD
TZOFFSETFROM:+0200
TZOFFSETTO:+0100
TZNAME:CET
DTSTART:20251026T010000
END:STANDARD
END:VTIMEZONE
BEGIN:VEVENT
DTSTART;TZID=Europe/Paris:20250815T143000
DTEND;TZID=Europe/Paris:20250815T150000
DTSTAMP:20260422T034943
CREATED:20250706T100325Z
LAST-MODIFIED:20250812T062702Z
UID:603-1755268200-1755270000@www.abbayefontaineguerard.fr
SUMMARY:« Les Vikings entre la Seine et l'Andelle » conférence à 14h30
DESCRIPTION:« Les Vikings entre la Seine et l’Andelle\, et leur trace archéologique et linguistique » conférence présentée par les éditions Utlagi \nLes Vikings s’installent en Normandie au cours des IXe et Xe siècles. Ils finissent par se fondre dans les populations locales et laissent peu de traces de leur passage. On a cependant aujourd’hui quelques traces matérielles et des traces linguistiques (en plus grand nombre)\, notamment à travers les noms de lieux\, qui nous permettent de mieux comprendre leur installation en Normandie. Cette conférence se concentrera sur ces quelques traces\, notamment dans la vallée de la Seine et de l’Andelle. \nConférence et visite libre de l’abbaye : adulte tarif plein 7€\, adulte tarif réduit 5 €\, 7-17 ans 4€\, gratuit – de 7 ans
URL:https://www.abbayefontaineguerard.fr/evenement/les-vikings-entre-la-seine-et-landelle-conference-a-14h30/
LOCATION:Abbaye de Fontaine-Guérard\, CD 714\, Radepont\, 27380
CATEGORIES:conférence
ORGANIZER;CN="Renaissance de Fontaine-Gu%C3%A9rard":MAILTO:fontaine-guerard@orange.fr
END:VEVENT
BEGIN:VEVENT
DTSTART;TZID=Europe/Paris:20250815T160000
DTEND;TZID=Europe/Paris:20250815T163000
DTSTAMP:20260422T034943
CREATED:20250706T100455Z
LAST-MODIFIED:20250812T062800Z
UID:605-1755273600-1755275400@www.abbayefontaineguerard.fr
SUMMARY:« L'héritage maritime des Vikings en Normandie » conférence à 16h00
DESCRIPTION:« L’héritage maritime des Vikings en Normandie » conférence présentée par les éditions Utlagi \nLes Vikings sont connus pour être de grands marins. Leur technologie navale\, et notamment leurs bateaux\, leur a permis de dominer leur époque. Cette supériorité technologique se remarque encore aujourd’hui à travers l’héritage linguistique et matériel qu’ils ont laissé en Normandie. Ainsi\, la majeure partie des termes scandinaves passés dans les parlers normands concerne le domaine maritime (noms d’animaux marins\, noms de bateaux\, termes de charpenterie navale\, termes juridiques en lien avec la mer). Cette conférence explorera l’étendue de cet héritage pour mieux mettre en évidence l’influence qu’ils ont eue dans le domaine maritime en Normandie. \nConférence et visite libre de l’abbaye : adulte plein tarif 7 €\, adulte tarif réduit 5€\, 7-17 ans 4 €\, gratuit – de 7 ans
URL:https://www.abbayefontaineguerard.fr/evenement/lheritage-maritime-des-vikings-en-normandie-conference-a-16h00-3/
LOCATION:Abbaye de Fontaine-Guérard\, CD 714\, Radepont\, 27380
CATEGORIES:conférence
ORGANIZER;CN="Renaissance de Fontaine-Gu%C3%A9rard":MAILTO:fontaine-guerard@orange.fr
END:VEVENT
END:VCALENDAR