BEGIN:VCALENDAR
VERSION:2.0
PRODID:-//Abbaye de Fontaine-Guérard - ECPv6.3.6//NONSGML v1.0//EN
CALSCALE:GREGORIAN
METHOD:PUBLISH
X-ORIGINAL-URL:https://www.abbayefontaineguerard.fr
X-WR-CALDESC:évènements pour Abbaye de Fontaine-Guérard
REFRESH-INTERVAL;VALUE=DURATION:PT1H
X-Robots-Tag:noindex
X-PUBLISHED-TTL:PT1H
BEGIN:VTIMEZONE
TZID:Europe/Paris
BEGIN:DAYLIGHT
TZOFFSETFROM:+0100
TZOFFSETTO:+0200
TZNAME:CEST
DTSTART:20260329T010000
END:DAYLIGHT
BEGIN:STANDARD
TZOFFSETFROM:+0200
TZOFFSETTO:+0100
TZNAME:CET
DTSTART:20261025T010000
END:STANDARD
END:VTIMEZONE
BEGIN:VEVENT
DTSTART;TZID=Europe/Paris:20260501T100000
DTEND;TZID=Europe/Paris:20260501T190000
DTSTAMP:20260419T170826
CREATED:20260111T092842Z
LAST-MODIFIED:20260201T181203Z
UID:673-1777629600-1777662000@www.abbayefontaineguerard.fr
SUMMARY:6ème salon Hupériôn (journée du Livre et de la Spiritualité) : « Solitudes en Chemin Spirituel »
DESCRIPTION:Vendredi 1er Mai: 6ème Salon Hupériôn sur le thème « Solitudes en Chemin Spirituel »  \nPrésidé par Sylvie Monpoint\, ce 6ème salon du livre spirituel présentera des conférences tout au long de cette journée d’échanges et de partage avec les auteurs et conférenciers. Vous pourrez participer en matinée (10h45-11h45) à un atelier de méditation. Inscription préalable: contact@lazare-capucine.com. Participation comprise dans le prix d’entrée. \nPlusieurs conférences seront présentées toute la journée et vous pourrez échanger avec les conférenciers\, et les auteurs qui pourront vous dédicacer leurs ouvrages. Exposition de peinture d’Alix Tassart. \nProgramme de la Journée (Ce programme est provisoire et des modifications demeurent possibles). \n 10h15 : introduction de la Présidente.Sylvie Monpoint \n10h30 – 11h15 : Méditation olfactive. Pauline Dumail \n11h45 – 12h15 : Cheminer seul ou avec une tradition ? Olivier de Lagausie \n14h-14h45 : La solitude et l’homme. entretien avec Marie de Hennezel (animé par Sylvie Monpoint) \n15h15-16h : Wild women : une expérience spirituelle de solitude : entretien avec Cécile Mavet (animé par Sylvie Monpoint) \n16h30-17h : Intériorité. Paule Amblard \n17h30 : Lecture musicale : Va vers toi ! Sylvie Monpoint et Jean-Jacques Lemêtre. \n19h00: clôture et pot de l’amitié \nRestauration et boissons. réservation repas conseillée: https://www.lazare-capucine.com/produit/salon-huperion-2024-repasdemidi/ \nVenez nombreux\, faites connaître à votre entourage ce lieu magnifique. Nous espérons que cueillette du muguet et fruits spirituels vous combleront. \nTarif de l’entrée 10 €\, gratuité -16 ans\, donnant un libre accès à l’ensemble des activités\, incluant l’atelier de méditation\, la visite libre de l’abbaye et des jardins monastiques\, le salon du livre\, toutes les conférences\, les expositions. Entrée libre pour les membres de l’association Huperiôn.
URL:https://www.abbayefontaineguerard.fr/evenement/6eme-salon-huperion-journee-du-livre-et-de-la-spiritualite-solitudes-en-chemin-spirituel/
LOCATION:Abbaye de Fontaine-Guérard\, CD 714\, Radepont\, 27380
CATEGORIES:salon du livre
ATTACH;FMTTYPE=image/jpeg:https://www.abbayefontaineguerard.fr/wp-content/uploads/2026/01/affiche-O-Delagausie-scaled.jpg
END:VEVENT
END:VCALENDAR