BEGIN:VCALENDAR
VERSION:2.0
PRODID:-//Abbaye de Fontaine-Guérard - ECPv6.3.6//NONSGML v1.0//EN
CALSCALE:GREGORIAN
METHOD:PUBLISH
X-ORIGINAL-URL:https://www.abbayefontaineguerard.fr
X-WR-CALDESC:évènements pour Abbaye de Fontaine-Guérard
REFRESH-INTERVAL;VALUE=DURATION:PT1H
X-Robots-Tag:noindex
X-PUBLISHED-TTL:PT1H
BEGIN:VTIMEZONE
TZID:Europe/Paris
BEGIN:DAYLIGHT
TZOFFSETFROM:+0100
TZOFFSETTO:+0200
TZNAME:CEST
DTSTART:20260329T010000
END:DAYLIGHT
BEGIN:STANDARD
TZOFFSETFROM:+0200
TZOFFSETTO:+0100
TZNAME:CET
DTSTART:20261025T010000
END:STANDARD
END:VTIMEZONE
BEGIN:VEVENT
DTSTART;TZID=Europe/Paris:20260606T103000
DTEND;TZID=Europe/Paris:20260607T180000
DTSTAMP:20260419T184127
CREATED:20251215T050011Z
LAST-MODIFIED:20260211T164806Z
UID:659-1780741800-1780855200@www.abbayefontaineguerard.fr
SUMMARY:10èmes Médiévales de Fontaine-Guérard
DESCRIPTION:Les « Médiévales de l’Abbaye » vont souffler leurs 10 bougies! Une grande et belle fête pour cette date anniversaire: une dizaine de compagnies de reconstitution historique et de spectacle entraineront les visiteurs au coeur du Moyen-Âge\, de la période viking à la fin du 15ème siècle. Chacun découvrira la vie de cette époque avec démonstration d’armes\, d’artisanat\, de cuisine\, de forge\, de médecine\, …Lancer de haches et de couteaux avec les Passeurs de lames (démonstrations et initiations)\, théâtre de rue avec la troupe Nessamelda\, musique\, jonglerie\, combats\, ateliers\, danses médiévales\, animations tout au long de ces deux jours. Animations pour les enfants (jeux en bois\,tir à l’arc\, etc). Bonne humeur et ambiance familiale garanties…comme chaque année! \nSans oublier un beau marché médiéval sur le thème médiéval et médiéval-fantastique avec une trentaine d’artisans. \nEt pour vous restaurer et vous désaltérer\, un rôtisseur au feu de bois\, de l’aligot et une échoppe proposant des boissons artisanales. \nTarif journée: adulte: 10 €\, tarif réduit (5-17 ans\, costumés Moyen-Age): 5 €\, famille (les 2 parents et leurs enfants): 27 €. \n\nSamedi 6 à partir de 20h00 : banquet-spectacle avec menu médiéval et feu (réservation obligatoire).\n\nBelles dames et doux seigneurs\, soyez les privilégiés qui dégusteront à la lueur des bougies dans le magnifique dortoir des moniales doux breuvages et moult ripailles concoctées par notre maître rôtisseur.  Vivez les festivités d’un véritable banquet médiéval animé par la Compagnie L’Arbre de Sovenance (musique\, jonglerie et danses médiévales). \nEt pour fêter les 10 ans la soirée s’achèvera par un grand spectacle de feu proposé par Grégory Montagna « La Flamme dans tous ses Etats ». \nLes réservations pour le banquet-spectacle ouvriront le 14 février. \nRéservation banquet adulte et enfants 12 ans et + (49 €): https://my.weezevent.com/banquet-spectacle-medieval-2026-adultes-12-ans-et \nRéservation banquet enfants moins de 12 ans (24 €): https://my.weezevent.com/banquet-spectacle-medieval-2026-enfants-moins-de-12-ans
URL:https://www.abbayefontaineguerard.fr/evenement/les-medievales-de-fontaine-guerard-fetent-leurs-10-ans/
LOCATION:Abbaye de Fontaine-Guérard\, CD 714\, Radepont\, 27380
CATEGORIES:fêtes et salons
ATTACH;FMTTYPE=image/jpeg:https://www.abbayefontaineguerard.fr/wp-content/uploads/2025/12/Medievales-de-Fontaine-Guerard-Combats-034-scaled.jpg
ORGANIZER;CN="Renaissance de Fontaine-Gu%C3%A9rard":MAILTO:fontaine-guerard@orange.fr
END:VEVENT
END:VCALENDAR