BEGIN:VCALENDAR
VERSION:2.0
PRODID:-//Abbaye de Fontaine-Guérard - ECPv6.3.6//NONSGML v1.0//EN
CALSCALE:GREGORIAN
METHOD:PUBLISH
X-WR-CALNAME:Abbaye de Fontaine-Guérard
X-ORIGINAL-URL:https://www.abbayefontaineguerard.fr
X-WR-CALDESC:évènements pour Abbaye de Fontaine-Guérard
REFRESH-INTERVAL;VALUE=DURATION:PT1H
X-Robots-Tag:noindex
X-PUBLISHED-TTL:PT1H
BEGIN:VTIMEZONE
TZID:Europe/Paris
BEGIN:DAYLIGHT
TZOFFSETFROM:+0100
TZOFFSETTO:+0200
TZNAME:CEST
DTSTART:20260329T010000
END:DAYLIGHT
BEGIN:STANDARD
TZOFFSETFROM:+0200
TZOFFSETTO:+0100
TZNAME:CET
DTSTART:20261025T010000
END:STANDARD
END:VTIMEZONE
BEGIN:VEVENT
DTSTART;TZID=Europe/Paris:20260919T083000
DTEND;TZID=Europe/Paris:20260920T180000
DTSTAMP:20260420T004722
CREATED:20260201T192438Z
LAST-MODIFIED:20260201T192743Z
UID:744-1789806600-1789927200@www.abbayefontaineguerard.fr
SUMMARY:Stages de Vannerie
DESCRIPTION:« Stages de vannerie » dans le cadre des Journées du Patrimoine Samedi 19 et Dimanche 20 Septembre (8h30-18h00) \nChaque année\, les stages d’initiation à la vannerie rencontrant un vif succès\, nous en proposons cette année de nouveaux avec des objets ou paniers à réaliser différents. Ces stages sont animés par des vanniers professionnels sur une ou deux journées\, dans le dortoir de l’abbaye\, pour découvrir les techniques du tissage de l’osier. Débutants acceptés. \nSur réservation: M. Jean-Max Garin: 06 45 20 82 67 ou garin.jean-max@orange.fr\, places limitées
URL:https://www.abbayefontaineguerard.fr/evenement/stages-de-vannerie-2/
LOCATION:Abbaye de Fontaine-Guérard\, CD 714\, Radepont\, 27380
CATEGORIES:ateliers et stages
ATTACH;FMTTYPE=image/jpeg:https://www.abbayefontaineguerard.fr/wp-content/uploads/2026/02/20240921_140917_resized_1.jpg
ORGANIZER;CN="Esprit de Fontaine-Gu%C3%A9rard":MAILTO:fontaine-guerard@orange.fr
END:VEVENT
BEGIN:VEVENT
DTSTART;TZID=Europe/Paris:20260919T103000
DTEND;TZID=Europe/Paris:20260920T180000
DTSTAMP:20260420T004722
CREATED:20260201T193853Z
LAST-MODIFIED:20260201T193853Z
UID:750-1789813800-1789927200@www.abbayefontaineguerard.fr
SUMMARY:« Journées du Patrimoine » Perles au Chalumeau
DESCRIPTION:Démonstration du travail du verre: perles au chalumeau.\n\nL’abbaye est un lieu idéal pour mettre en valeur l’artisanat d’art. Stéphanie Leroy fera des démonstrations de création de perles au chalumeau\, expliquera sa technique au public\, et présentera ses réalisations. \n\nVisites  guidées et accès à l’animation : de 5€ à 2\,50€\n\nA l’occasion des Journées du Patrimoine tarif réduit proposé à tous et visites guidées tout au long des deux journées.
URL:https://www.abbayefontaineguerard.fr/evenement/journees-du-patrimoine-perles-au-chalumeau/
LOCATION:Abbaye de Fontaine-Guérard\, CD 714\, Radepont\, 27380
CATEGORIES:atelier
ATTACH;FMTTYPE=image/jpeg:https://www.abbayefontaineguerard.fr/wp-content/uploads/2026/02/1762866781149_1762866778496_Festiverre_2025-216-scaled.jpg
END:VEVENT
BEGIN:VEVENT
DTSTART;TZID=Europe/Paris:20260919T200000
DTEND;TZID=Europe/Paris:20260919T220000
DTSTAMP:20260420T004722
CREATED:20260201T191704Z
LAST-MODIFIED:20260201T191824Z
UID:740-1789848000-1789855200@www.abbayefontaineguerard.fr
SUMMARY:Ciné-Concert Belle Epoque
DESCRIPTION:Sous la direction du clarinettiste Lester Chio\, l’ensemble de clarinettes ClariVal\, vous fera vivre les grands bouleversements culturels et scientifiques de la Belle Epoque grâce à un programme musical varié et une animation cinématographique consacrée au Paris du début du 20ème siècle\, à la découverte de l’exposition universelle\, du Moulin Rouge\, du French Cancan\, du cinéma… \n« L’Ensemble de Clarinettes Clarival\, créé en septembre 2023\, réunit des clarinettistes amateurs de haut niveau\, passionnés et enthousiastes\, pour qui la Musique représente une des plus nobles expressions artistiques\, porteuse de valeurs et d’espoirs. \nGratuit. Buvette à l’entracte au bénéfice de l’abbaye.
URL:https://www.abbayefontaineguerard.fr/evenement/cine-concert-belle-epoque/
LOCATION:Abbaye de Fontaine-Guérard\, CD 714\, Radepont\, 27380
CATEGORIES:concert
ATTACH;FMTTYPE=image/jpeg:https://www.abbayefontaineguerard.fr/wp-content/uploads/2026/02/Clarival-scaled.jpg
END:VEVENT
END:VCALENDAR